BEGIN:VCALENDAR
VERSION:2.0
PRODID:-//The CENTRE - Rolla&#039;s Health &amp; Recreation Complex - ECPv6.15.20//NONSGML v1.0//EN
CALSCALE:GREGORIAN
METHOD:PUBLISH
X-ORIGINAL-URL:https://www.rollacentre.org
X-WR-CALDESC:Events for The CENTRE - Rolla&#039;s Health &amp; Recreation Complex
REFRESH-INTERVAL;VALUE=DURATION:PT1H
X-Robots-Tag:noindex
X-PUBLISHED-TTL:PT1H
BEGIN:VTIMEZONE
TZID:America/New_York
BEGIN:DAYLIGHT
TZOFFSETFROM:-0500
TZOFFSETTO:-0400
TZNAME:EDT
DTSTART:20250309T070000
END:DAYLIGHT
BEGIN:STANDARD
TZOFFSETFROM:-0400
TZOFFSETTO:-0500
TZNAME:EST
DTSTART:20251102T060000
END:STANDARD
BEGIN:DAYLIGHT
TZOFFSETFROM:-0500
TZOFFSETTO:-0400
TZNAME:EDT
DTSTART:20260308T070000
END:DAYLIGHT
BEGIN:STANDARD
TZOFFSETFROM:-0400
TZOFFSETTO:-0500
TZNAME:EST
DTSTART:20261101T060000
END:STANDARD
BEGIN:DAYLIGHT
TZOFFSETFROM:-0500
TZOFFSETTO:-0400
TZNAME:EDT
DTSTART:20270314T070000
END:DAYLIGHT
BEGIN:STANDARD
TZOFFSETFROM:-0400
TZOFFSETTO:-0500
TZNAME:EST
DTSTART:20271107T060000
END:STANDARD
END:VTIMEZONE
BEGIN:VEVENT
DTSTART;TZID=America/New_York:20260423T083000
DTEND;TZID=America/New_York:20260423T093000
DTSTAMP:20260423T062428
CREATED:20230103T204545Z
LAST-MODIFIED:20230103T204545Z
UID:81474-1776933000-1776936600@www.rollacentre.org
SUMMARY:YOGA
DESCRIPTION:This class is suitable for anyone wanting all the health benefits of Yoga; improved posture\, balance\, and coordination. This class flows from one posture to another so that everyone can follow easily.
URL:https://www.rollacentre.org/event/yoga-2/2026-04-23/
LOCATION:Yoga Studio
CATEGORIES:Yoga / Pilates
END:VEVENT
BEGIN:VEVENT
DTSTART;TZID=America/New_York:20260423T100000
DTEND;TZID=America/New_York:20260423T110000
DTSTAMP:20260423T062428
CREATED:20230103T211148Z
LAST-MODIFIED:20230103T211148Z
UID:81475-1776938400-1776942000@www.rollacentre.org
SUMMARY:ARTHRITIS
DESCRIPTION:Experience relief today in this lowimpact\, physical activity class that is designed specifically for individuals of all fitness levels with arthritis. In this class we will be doing gentle range-of-motion exercises\, strengthening exercises\, and cardiovascular exercises.
URL:https://www.rollacentre.org/event/arthritis/2026-04-23/
LOCATION:Yoga Studio
CATEGORIES:Yoga / Pilates
END:VEVENT
BEGIN:VEVENT
DTSTART;TZID=America/New_York:20260430T083000
DTEND;TZID=America/New_York:20260430T093000
DTSTAMP:20260423T062428
CREATED:20230103T204545Z
LAST-MODIFIED:20230103T204545Z
UID:81503-1777537800-1777541400@www.rollacentre.org
SUMMARY:YOGA
DESCRIPTION:This class is suitable for anyone wanting all the health benefits of Yoga; improved posture\, balance\, and coordination. This class flows from one posture to another so that everyone can follow easily.
URL:https://www.rollacentre.org/event/yoga-2/2026-04-30/
LOCATION:Yoga Studio
CATEGORIES:Yoga / Pilates
END:VEVENT
BEGIN:VEVENT
DTSTART;TZID=America/New_York:20260430T100000
DTEND;TZID=America/New_York:20260430T110000
DTSTAMP:20260423T062428
CREATED:20230103T211148Z
LAST-MODIFIED:20230103T211148Z
UID:81504-1777543200-1777546800@www.rollacentre.org
SUMMARY:ARTHRITIS
DESCRIPTION:Experience relief today in this lowimpact\, physical activity class that is designed specifically for individuals of all fitness levels with arthritis. In this class we will be doing gentle range-of-motion exercises\, strengthening exercises\, and cardiovascular exercises.
URL:https://www.rollacentre.org/event/arthritis/2026-04-30/
LOCATION:Yoga Studio
CATEGORIES:Yoga / Pilates
END:VEVENT
BEGIN:VEVENT
DTSTART;TZID=America/New_York:20260507T083000
DTEND;TZID=America/New_York:20260507T093000
DTSTAMP:20260423T062428
CREATED:20230103T204545Z
LAST-MODIFIED:20230103T204545Z
UID:81519-1778142600-1778146200@www.rollacentre.org
SUMMARY:YOGA
DESCRIPTION:This class is suitable for anyone wanting all the health benefits of Yoga; improved posture\, balance\, and coordination. This class flows from one posture to another so that everyone can follow easily.
URL:https://www.rollacentre.org/event/yoga-2/2026-05-07/
LOCATION:Yoga Studio
CATEGORIES:Yoga / Pilates
END:VEVENT
BEGIN:VEVENT
DTSTART;TZID=America/New_York:20260507T100000
DTEND;TZID=America/New_York:20260507T110000
DTSTAMP:20260423T062428
CREATED:20230103T211148Z
LAST-MODIFIED:20230103T211148Z
UID:81520-1778148000-1778151600@www.rollacentre.org
SUMMARY:ARTHRITIS
DESCRIPTION:Experience relief today in this lowimpact\, physical activity class that is designed specifically for individuals of all fitness levels with arthritis. In this class we will be doing gentle range-of-motion exercises\, strengthening exercises\, and cardiovascular exercises.
URL:https://www.rollacentre.org/event/arthritis/2026-05-07/
LOCATION:Yoga Studio
CATEGORIES:Yoga / Pilates
END:VEVENT
BEGIN:VEVENT
DTSTART;TZID=America/New_York:20260514T083000
DTEND;TZID=America/New_York:20260514T093000
DTSTAMP:20260423T062428
CREATED:20230103T204545Z
LAST-MODIFIED:20230103T204545Z
UID:81532-1778747400-1778751000@www.rollacentre.org
SUMMARY:YOGA
DESCRIPTION:This class is suitable for anyone wanting all the health benefits of Yoga; improved posture\, balance\, and coordination. This class flows from one posture to another so that everyone can follow easily.
URL:https://www.rollacentre.org/event/yoga-2/2026-05-14/
LOCATION:Yoga Studio
CATEGORIES:Yoga / Pilates
END:VEVENT
BEGIN:VEVENT
DTSTART;TZID=America/New_York:20260514T100000
DTEND;TZID=America/New_York:20260514T110000
DTSTAMP:20260423T062428
CREATED:20230103T211148Z
LAST-MODIFIED:20230103T211148Z
UID:81533-1778752800-1778756400@www.rollacentre.org
SUMMARY:ARTHRITIS
DESCRIPTION:Experience relief today in this lowimpact\, physical activity class that is designed specifically for individuals of all fitness levels with arthritis. In this class we will be doing gentle range-of-motion exercises\, strengthening exercises\, and cardiovascular exercises.
URL:https://www.rollacentre.org/event/arthritis/2026-05-14/
LOCATION:Yoga Studio
CATEGORIES:Yoga / Pilates
END:VEVENT
BEGIN:VEVENT
DTSTART;TZID=America/New_York:20260521T083000
DTEND;TZID=America/New_York:20260521T093000
DTSTAMP:20260423T062428
CREATED:20230103T204545Z
LAST-MODIFIED:20230103T204545Z
UID:81563-1779352200-1779355800@www.rollacentre.org
SUMMARY:YOGA
DESCRIPTION:This class is suitable for anyone wanting all the health benefits of Yoga; improved posture\, balance\, and coordination. This class flows from one posture to another so that everyone can follow easily.
URL:https://www.rollacentre.org/event/yoga-2/2026-05-21/
LOCATION:Yoga Studio
CATEGORIES:Yoga / Pilates
END:VEVENT
BEGIN:VEVENT
DTSTART;TZID=America/New_York:20260521T100000
DTEND;TZID=America/New_York:20260521T110000
DTSTAMP:20260423T062428
CREATED:20230103T211148Z
LAST-MODIFIED:20230103T211148Z
UID:81564-1779357600-1779361200@www.rollacentre.org
SUMMARY:ARTHRITIS
DESCRIPTION:Experience relief today in this lowimpact\, physical activity class that is designed specifically for individuals of all fitness levels with arthritis. In this class we will be doing gentle range-of-motion exercises\, strengthening exercises\, and cardiovascular exercises.
URL:https://www.rollacentre.org/event/arthritis/2026-05-21/
LOCATION:Yoga Studio
CATEGORIES:Yoga / Pilates
END:VEVENT
BEGIN:VEVENT
DTSTART;TZID=America/New_York:20260528T083000
DTEND;TZID=America/New_York:20260528T093000
DTSTAMP:20260423T062428
CREATED:20230103T204545Z
LAST-MODIFIED:20230103T204545Z
UID:81619-1779957000-1779960600@www.rollacentre.org
SUMMARY:YOGA
DESCRIPTION:This class is suitable for anyone wanting all the health benefits of Yoga; improved posture\, balance\, and coordination. This class flows from one posture to another so that everyone can follow easily.
URL:https://www.rollacentre.org/event/yoga-2/2026-05-28/
LOCATION:Yoga Studio
CATEGORIES:Yoga / Pilates
END:VEVENT
BEGIN:VEVENT
DTSTART;TZID=America/New_York:20260528T100000
DTEND;TZID=America/New_York:20260528T110000
DTSTAMP:20260423T062428
CREATED:20230103T211148Z
LAST-MODIFIED:20230103T211148Z
UID:81620-1779962400-1779966000@www.rollacentre.org
SUMMARY:ARTHRITIS
DESCRIPTION:Experience relief today in this lowimpact\, physical activity class that is designed specifically for individuals of all fitness levels with arthritis. In this class we will be doing gentle range-of-motion exercises\, strengthening exercises\, and cardiovascular exercises.
URL:https://www.rollacentre.org/event/arthritis/2026-05-28/
LOCATION:Yoga Studio
CATEGORIES:Yoga / Pilates
END:VEVENT
BEGIN:VEVENT
DTSTART;TZID=America/New_York:20260604T083000
DTEND;TZID=America/New_York:20260604T093000
DTSTAMP:20260423T062428
CREATED:20230103T204545Z
LAST-MODIFIED:20230103T204545Z
UID:81647-1780561800-1780565400@www.rollacentre.org
SUMMARY:YOGA
DESCRIPTION:This class is suitable for anyone wanting all the health benefits of Yoga; improved posture\, balance\, and coordination. This class flows from one posture to another so that everyone can follow easily.
URL:https://www.rollacentre.org/event/yoga-2/2026-06-04/
LOCATION:Yoga Studio
CATEGORIES:Yoga / Pilates
END:VEVENT
BEGIN:VEVENT
DTSTART;TZID=America/New_York:20260604T100000
DTEND;TZID=America/New_York:20260604T110000
DTSTAMP:20260423T062428
CREATED:20230103T211148Z
LAST-MODIFIED:20230103T211148Z
UID:81648-1780567200-1780570800@www.rollacentre.org
SUMMARY:ARTHRITIS
DESCRIPTION:Experience relief today in this lowimpact\, physical activity class that is designed specifically for individuals of all fitness levels with arthritis. In this class we will be doing gentle range-of-motion exercises\, strengthening exercises\, and cardiovascular exercises.
URL:https://www.rollacentre.org/event/arthritis/2026-06-04/
LOCATION:Yoga Studio
CATEGORIES:Yoga / Pilates
END:VEVENT
BEGIN:VEVENT
DTSTART;TZID=America/New_York:20260611T083000
DTEND;TZID=America/New_York:20260611T093000
DTSTAMP:20260423T062428
CREATED:20230103T204545Z
LAST-MODIFIED:20230103T204545Z
UID:81704-1781166600-1781170200@www.rollacentre.org
SUMMARY:YOGA
DESCRIPTION:This class is suitable for anyone wanting all the health benefits of Yoga; improved posture\, balance\, and coordination. This class flows from one posture to another so that everyone can follow easily.
URL:https://www.rollacentre.org/event/yoga-2/2026-06-11/
LOCATION:Yoga Studio
CATEGORIES:Yoga / Pilates
END:VEVENT
BEGIN:VEVENT
DTSTART;TZID=America/New_York:20260611T100000
DTEND;TZID=America/New_York:20260611T110000
DTSTAMP:20260423T062428
CREATED:20230103T211148Z
LAST-MODIFIED:20230103T211148Z
UID:81705-1781172000-1781175600@www.rollacentre.org
SUMMARY:ARTHRITIS
DESCRIPTION:Experience relief today in this lowimpact\, physical activity class that is designed specifically for individuals of all fitness levels with arthritis. In this class we will be doing gentle range-of-motion exercises\, strengthening exercises\, and cardiovascular exercises.
URL:https://www.rollacentre.org/event/arthritis/2026-06-11/
LOCATION:Yoga Studio
CATEGORIES:Yoga / Pilates
END:VEVENT
BEGIN:VEVENT
DTSTART;TZID=America/New_York:20260618T083000
DTEND;TZID=America/New_York:20260618T093000
DTSTAMP:20260423T062428
CREATED:20230103T204545Z
LAST-MODIFIED:20230103T204545Z
UID:81735-1781771400-1781775000@www.rollacentre.org
SUMMARY:YOGA
DESCRIPTION:This class is suitable for anyone wanting all the health benefits of Yoga; improved posture\, balance\, and coordination. This class flows from one posture to another so that everyone can follow easily.
URL:https://www.rollacentre.org/event/yoga-2/2026-06-18/
LOCATION:Yoga Studio
CATEGORIES:Yoga / Pilates
END:VEVENT
BEGIN:VEVENT
DTSTART;TZID=America/New_York:20260618T100000
DTEND;TZID=America/New_York:20260618T110000
DTSTAMP:20260423T062428
CREATED:20230103T211148Z
LAST-MODIFIED:20230103T211148Z
UID:81736-1781776800-1781780400@www.rollacentre.org
SUMMARY:ARTHRITIS
DESCRIPTION:Experience relief today in this lowimpact\, physical activity class that is designed specifically for individuals of all fitness levels with arthritis. In this class we will be doing gentle range-of-motion exercises\, strengthening exercises\, and cardiovascular exercises.
URL:https://www.rollacentre.org/event/arthritis/2026-06-18/
LOCATION:Yoga Studio
CATEGORIES:Yoga / Pilates
END:VEVENT
BEGIN:VEVENT
DTSTART;TZID=America/New_York:20260625T083000
DTEND;TZID=America/New_York:20260625T093000
DTSTAMP:20260423T062428
CREATED:20230103T204545Z
LAST-MODIFIED:20230103T204545Z
UID:81765-1782376200-1782379800@www.rollacentre.org
SUMMARY:YOGA
DESCRIPTION:This class is suitable for anyone wanting all the health benefits of Yoga; improved posture\, balance\, and coordination. This class flows from one posture to another so that everyone can follow easily.
URL:https://www.rollacentre.org/event/yoga-2/2026-06-25/
LOCATION:Yoga Studio
CATEGORIES:Yoga / Pilates
END:VEVENT
BEGIN:VEVENT
DTSTART;TZID=America/New_York:20260625T100000
DTEND;TZID=America/New_York:20260625T110000
DTSTAMP:20260423T062428
CREATED:20230103T211148Z
LAST-MODIFIED:20230103T211148Z
UID:81766-1782381600-1782385200@www.rollacentre.org
SUMMARY:ARTHRITIS
DESCRIPTION:Experience relief today in this lowimpact\, physical activity class that is designed specifically for individuals of all fitness levels with arthritis. In this class we will be doing gentle range-of-motion exercises\, strengthening exercises\, and cardiovascular exercises.
URL:https://www.rollacentre.org/event/arthritis/2026-06-25/
LOCATION:Yoga Studio
CATEGORIES:Yoga / Pilates
END:VEVENT
BEGIN:VEVENT
DTSTART;TZID=America/New_York:20260702T083000
DTEND;TZID=America/New_York:20260702T093000
DTSTAMP:20260423T062428
CREATED:20230103T204545Z
LAST-MODIFIED:20230103T204545Z
UID:81788-1782981000-1782984600@www.rollacentre.org
SUMMARY:YOGA
DESCRIPTION:This class is suitable for anyone wanting all the health benefits of Yoga; improved posture\, balance\, and coordination. This class flows from one posture to another so that everyone can follow easily.
URL:https://www.rollacentre.org/event/yoga-2/2026-07-02/
LOCATION:Yoga Studio
CATEGORIES:Yoga / Pilates
END:VEVENT
BEGIN:VEVENT
DTSTART;TZID=America/New_York:20260702T100000
DTEND;TZID=America/New_York:20260702T110000
DTSTAMP:20260423T062428
CREATED:20230103T211148Z
LAST-MODIFIED:20230103T211148Z
UID:81789-1782986400-1782990000@www.rollacentre.org
SUMMARY:ARTHRITIS
DESCRIPTION:Experience relief today in this lowimpact\, physical activity class that is designed specifically for individuals of all fitness levels with arthritis. In this class we will be doing gentle range-of-motion exercises\, strengthening exercises\, and cardiovascular exercises.
URL:https://www.rollacentre.org/event/arthritis/2026-07-02/
LOCATION:Yoga Studio
CATEGORIES:Yoga / Pilates
END:VEVENT
BEGIN:VEVENT
DTSTART;TZID=America/New_York:20260709T083000
DTEND;TZID=America/New_York:20260709T093000
DTSTAMP:20260423T062428
CREATED:20230103T204545Z
LAST-MODIFIED:20230103T204545Z
UID:81816-1783585800-1783589400@www.rollacentre.org
SUMMARY:YOGA
DESCRIPTION:This class is suitable for anyone wanting all the health benefits of Yoga; improved posture\, balance\, and coordination. This class flows from one posture to another so that everyone can follow easily.
URL:https://www.rollacentre.org/event/yoga-2/2026-07-09/
LOCATION:Yoga Studio
CATEGORIES:Yoga / Pilates
END:VEVENT
BEGIN:VEVENT
DTSTART;TZID=America/New_York:20260709T100000
DTEND;TZID=America/New_York:20260709T110000
DTSTAMP:20260423T062428
CREATED:20230103T211148Z
LAST-MODIFIED:20230103T211148Z
UID:81817-1783591200-1783594800@www.rollacentre.org
SUMMARY:ARTHRITIS
DESCRIPTION:Experience relief today in this lowimpact\, physical activity class that is designed specifically for individuals of all fitness levels with arthritis. In this class we will be doing gentle range-of-motion exercises\, strengthening exercises\, and cardiovascular exercises.
URL:https://www.rollacentre.org/event/arthritis/2026-07-09/
LOCATION:Yoga Studio
CATEGORIES:Yoga / Pilates
END:VEVENT
BEGIN:VEVENT
DTSTART;TZID=America/New_York:20260716T083000
DTEND;TZID=America/New_York:20260716T093000
DTSTAMP:20260423T062428
CREATED:20230103T204545Z
LAST-MODIFIED:20230103T204545Z
UID:81829-1784190600-1784194200@www.rollacentre.org
SUMMARY:YOGA
DESCRIPTION:This class is suitable for anyone wanting all the health benefits of Yoga; improved posture\, balance\, and coordination. This class flows from one posture to another so that everyone can follow easily.
URL:https://www.rollacentre.org/event/yoga-2/2026-07-16/
LOCATION:Yoga Studio
CATEGORIES:Yoga / Pilates
END:VEVENT
BEGIN:VEVENT
DTSTART;TZID=America/New_York:20260716T100000
DTEND;TZID=America/New_York:20260716T110000
DTSTAMP:20260423T062428
CREATED:20230103T211148Z
LAST-MODIFIED:20230103T211148Z
UID:81830-1784196000-1784199600@www.rollacentre.org
SUMMARY:ARTHRITIS
DESCRIPTION:Experience relief today in this lowimpact\, physical activity class that is designed specifically for individuals of all fitness levels with arthritis. In this class we will be doing gentle range-of-motion exercises\, strengthening exercises\, and cardiovascular exercises.
URL:https://www.rollacentre.org/event/arthritis/2026-07-16/
LOCATION:Yoga Studio
CATEGORIES:Yoga / Pilates
END:VEVENT
END:VCALENDAR