BEGIN:VCALENDAR
VERSION:2.0
PRODID:-//The CENTRE - Rolla&#039;s Health &amp; Recreation Complex - ECPv6.15.20//NONSGML v1.0//EN
CALSCALE:GREGORIAN
METHOD:PUBLISH
X-WR-CALNAME:The CENTRE - Rolla&#039;s Health &amp; Recreation Complex
X-ORIGINAL-URL:https://www.rollacentre.org
X-WR-CALDESC:Events for The CENTRE - Rolla&#039;s Health &amp; Recreation Complex
REFRESH-INTERVAL;VALUE=DURATION:PT1H
X-Robots-Tag:noindex
X-PUBLISHED-TTL:PT1H
BEGIN:VTIMEZONE
TZID:America/New_York
BEGIN:DAYLIGHT
TZOFFSETFROM:-0500
TZOFFSETTO:-0400
TZNAME:EDT
DTSTART:20250309T070000
END:DAYLIGHT
BEGIN:STANDARD
TZOFFSETFROM:-0400
TZOFFSETTO:-0500
TZNAME:EST
DTSTART:20251102T060000
END:STANDARD
BEGIN:DAYLIGHT
TZOFFSETFROM:-0500
TZOFFSETTO:-0400
TZNAME:EDT
DTSTART:20260308T070000
END:DAYLIGHT
BEGIN:STANDARD
TZOFFSETFROM:-0400
TZOFFSETTO:-0500
TZNAME:EST
DTSTART:20261101T060000
END:STANDARD
BEGIN:DAYLIGHT
TZOFFSETFROM:-0500
TZOFFSETTO:-0400
TZNAME:EDT
DTSTART:20270314T070000
END:DAYLIGHT
BEGIN:STANDARD
TZOFFSETFROM:-0400
TZOFFSETTO:-0500
TZNAME:EST
DTSTART:20271107T060000
END:STANDARD
END:VTIMEZONE
BEGIN:VEVENT
DTSTART;TZID=America/New_York:20260421T080500
DTEND;TZID=America/New_York:20260421T083000
DTSTAMP:20260421T113647
CREATED:20230103T203944Z
LAST-MODIFIED:20230103T203944Z
UID:81471-1776758700-1776760200@www.rollacentre.org
SUMMARY:AQUA FLOW
DESCRIPTION:Taking place in the cool and deeper water\, this 30 minute stretch class incorporates increased arm movement.
URL:https://www.rollacentre.org/event/aqua-flow/2026-04-21/
LOCATION:Pool
CATEGORIES:Aquatics
END:VEVENT
BEGIN:VEVENT
DTSTART;TZID=America/New_York:20260421T094500
DTEND;TZID=America/New_York:20260421T104500
DTSTAMP:20260421T113647
CREATED:20230103T204227Z
LAST-MODIFIED:20230103T204227Z
UID:81472-1776764700-1776768300@www.rollacentre.org
SUMMARY:FOREVER YOUNG
DESCRIPTION:Gain functional strength and balance. Increase range of motion plus cardio function from low impact exercises with other active older adults.
URL:https://www.rollacentre.org/event/forever-young/2026-04-21/
LOCATION:Gymnasium\, FL
CATEGORIES:Cardio / Strength
END:VEVENT
BEGIN:VEVENT
DTSTART;TZID=America/New_York:20260421T173000
DTEND;TZID=America/New_York:20260421T183000
DTSTAMP:20260421T113647
CREATED:20230103T212421Z
LAST-MODIFIED:20230103T212421Z
UID:81470-1776792600-1776796200@www.rollacentre.org
SUMMARY:ZUMBA®
DESCRIPTION:Everybody and everybody! Zumba® takes the “work” out of workout\, by mixing low-intensity and high-intensity moves for an interval-style\, calorie-burning dance fitness party. Instructors for this class will rotate between Sara and Rachel
URL:https://www.rollacentre.org/event/zumba/2026-04-21/
LOCATION:Group Exercise Studio\, FL
CATEGORIES:Cardio / Strength
END:VEVENT
BEGIN:VEVENT
DTSTART;TZID=America/New_York:20260422T173000
DTEND;TZID=America/New_York:20260422T183000
DTSTAMP:20260421T113647
CREATED:20230228T194404Z
LAST-MODIFIED:20230228T194404Z
UID:81473-1776879000-1776882600@www.rollacentre.org
SUMMARY:LES MILLS® BODYPUMP™
DESCRIPTION:This full-body barbell workout will burn calories\, shape and tone your entire body\, increase core strength and improve bone health.
URL:https://www.rollacentre.org/event/les-mills-bodypump-3/2026-04-22/
LOCATION:Group Exercise Studio\, FL
CATEGORIES:Cardio / Strength,Les Mills
END:VEVENT
BEGIN:VEVENT
DTSTART;TZID=America/New_York:20260423T083000
DTEND;TZID=America/New_York:20260423T093000
DTSTAMP:20260421T113647
CREATED:20230103T204545Z
LAST-MODIFIED:20230103T204545Z
UID:81474-1776933000-1776936600@www.rollacentre.org
SUMMARY:YOGA
DESCRIPTION:This class is suitable for anyone wanting all the health benefits of Yoga; improved posture\, balance\, and coordination. This class flows from one posture to another so that everyone can follow easily.
URL:https://www.rollacentre.org/event/yoga-2/2026-04-23/
LOCATION:Yoga Studio
CATEGORIES:Yoga / Pilates
END:VEVENT
BEGIN:VEVENT
DTSTART;TZID=America/New_York:20260423T094500
DTEND;TZID=America/New_York:20260423T104500
DTSTAMP:20260421T113647
CREATED:20230103T204227Z
LAST-MODIFIED:20230103T204227Z
UID:81476-1776937500-1776941100@www.rollacentre.org
SUMMARY:FOREVER YOUNG
DESCRIPTION:Gain functional strength and balance. Increase range of motion plus cardio function from low impact exercises with other active older adults.
URL:https://www.rollacentre.org/event/forever-young/2026-04-23/
LOCATION:Gymnasium\, FL
CATEGORIES:Cardio / Strength
END:VEVENT
BEGIN:VEVENT
DTSTART;TZID=America/New_York:20260423T100000
DTEND;TZID=America/New_York:20260423T110000
DTSTAMP:20260421T113647
CREATED:20230103T211148Z
LAST-MODIFIED:20230103T211148Z
UID:81475-1776938400-1776942000@www.rollacentre.org
SUMMARY:ARTHRITIS
DESCRIPTION:Experience relief today in this lowimpact\, physical activity class that is designed specifically for individuals of all fitness levels with arthritis. In this class we will be doing gentle range-of-motion exercises\, strengthening exercises\, and cardiovascular exercises.
URL:https://www.rollacentre.org/event/arthritis/2026-04-23/
LOCATION:Yoga Studio
CATEGORIES:Yoga / Pilates
END:VEVENT
BEGIN:VEVENT
DTSTART;TZID=America/New_York:20260424T080000
DTEND;TZID=America/New_York:20260424T090000
DTSTAMP:20260421T113647
CREATED:20230103T204854Z
LAST-MODIFIED:20230103T204854Z
UID:81478-1777017600-1777021200@www.rollacentre.org
SUMMARY:WATER AEROBICS CIRCUIT**
DESCRIPTION:Will help you improve flexibility\, range of motion\, strength\, muscle tone and cardiovascular endurance using the resistance of the water to cushion the feet\, knees and back. \n** WATER AEROBICS/STROKE CLINIC: Signing up ahead of time on swim schedule is required to secure\nspots available. To prepare students for Circuit class\, Workshop is required prior to attending.
URL:https://www.rollacentre.org/event/water-aerobics-circuit/2026-04-24/
LOCATION:Pool
CATEGORIES:Aquatics
END:VEVENT
BEGIN:VEVENT
DTSTART;TZID=America/New_York:20260424T090000
DTEND;TZID=America/New_York:20260424T100000
DTSTAMP:20260421T113647
CREATED:20230103T205049Z
LAST-MODIFIED:20230103T205049Z
UID:81477-1777021200-1777024800@www.rollacentre.org
SUMMARY:WATER AEROBICS CIRCUIT**
DESCRIPTION:Will help you improve flexibility\, range of motion\, strength\, muscle tone and cardiovascular endurance using the\nresistance of the water to cushion the feet\, knees and back. \n** WATER AEROBICS/STROKE CLINIC: Signing up ahead of time on swim schedule is required to secure\nspots available. To prepare students for Circuit class\, Workshop is required prior to attending.
URL:https://www.rollacentre.org/event/water-aerobics-circuit-2/2026-04-24/
LOCATION:Pool
CATEGORIES:Aquatics
END:VEVENT
BEGIN:VEVENT
DTSTART;TZID=America/New_York:20260425T090000
DTEND;TZID=America/New_York:20260425T100000
DTSTAMP:20260421T113647
CREATED:20230103T202716Z
LAST-MODIFIED:20230103T202716Z
UID:81481-1777107600-1777111200@www.rollacentre.org
SUMMARY:SATURDAY 9:00 AM ROTATION
DESCRIPTION:February 1 BARRE with NAT\nFebruary 8 BARRE with NAT\nFebruary 15 ZUMBA TONING with RACHEL\nFebruary 22 BODYPUMP with CHRISTY
URL:https://www.rollacentre.org/event/saturday-900-am-rotation/2026-04-25/
LOCATION:Group Exercise Studio\, FL
CATEGORIES:Cardio / Strength,Les Mills,Yoga / Pilates
END:VEVENT
BEGIN:VEVENT
DTSTART;TZID=America/New_York:20260427T083000
DTEND;TZID=America/New_York:20260427T093000
DTSTAMP:20260421T113647
CREATED:20230103T194939Z
LAST-MODIFIED:20230103T194939Z
UID:81485-1777278600-1777282200@www.rollacentre.org
SUMMARY:BARRE
DESCRIPTION:Incorporates elements from ballet\, Yoga\, Pilates\, and traditional resistance training. You may have bare feet\, use yoga socks\, or tennis shoes.
URL:https://www.rollacentre.org/event/barre/2026-04-27/
LOCATION:Group Exercise Studio\, FL
CATEGORIES:Yoga / Pilates
END:VEVENT
BEGIN:VEVENT
DTSTART;TZID=America/New_York:20260427T094500
DTEND;TZID=America/New_York:20260427T104500
DTSTAMP:20260421T113647
CREATED:20230103T203428Z
LAST-MODIFIED:20230103T203428Z
UID:81486-1777283100-1777286700@www.rollacentre.org
SUMMARY:SENIOR MOVEMENT
DESCRIPTION:Functional toning\, movement\, and balance. Low impact for active older adults.
URL:https://www.rollacentre.org/event/senior-movement/2026-04-27/
LOCATION:Group Exercise Studio\, FL
CATEGORIES:Cardio / Strength
END:VEVENT
BEGIN:VEVENT
DTSTART;TZID=America/New_York:20260428T080500
DTEND;TZID=America/New_York:20260428T083000
DTSTAMP:20260421T113647
CREATED:20230103T203944Z
LAST-MODIFIED:20230103T203944Z
UID:81496-1777363500-1777365000@www.rollacentre.org
SUMMARY:AQUA FLOW
DESCRIPTION:Taking place in the cool and deeper water\, this 30 minute stretch class incorporates increased arm movement.
URL:https://www.rollacentre.org/event/aqua-flow/2026-04-28/
LOCATION:Pool
CATEGORIES:Aquatics
END:VEVENT
BEGIN:VEVENT
DTSTART;TZID=America/New_York:20260428T094500
DTEND;TZID=America/New_York:20260428T104500
DTSTAMP:20260421T113647
CREATED:20230103T204227Z
LAST-MODIFIED:20230103T204227Z
UID:81497-1777369500-1777373100@www.rollacentre.org
SUMMARY:FOREVER YOUNG
DESCRIPTION:Gain functional strength and balance. Increase range of motion plus cardio function from low impact exercises with other active older adults.
URL:https://www.rollacentre.org/event/forever-young/2026-04-28/
LOCATION:Gymnasium\, FL
CATEGORIES:Cardio / Strength
END:VEVENT
BEGIN:VEVENT
DTSTART;TZID=America/New_York:20260428T173000
DTEND;TZID=America/New_York:20260428T183000
DTSTAMP:20260421T113647
CREATED:20230103T212421Z
LAST-MODIFIED:20230103T212421Z
UID:81495-1777397400-1777401000@www.rollacentre.org
SUMMARY:ZUMBA®
DESCRIPTION:Everybody and everybody! Zumba® takes the “work” out of workout\, by mixing low-intensity and high-intensity moves for an interval-style\, calorie-burning dance fitness party. Instructors for this class will rotate between Sara and Rachel
URL:https://www.rollacentre.org/event/zumba/2026-04-28/
LOCATION:Group Exercise Studio\, FL
CATEGORIES:Cardio / Strength
END:VEVENT
BEGIN:VEVENT
DTSTART;TZID=America/New_York:20260429T173000
DTEND;TZID=America/New_York:20260429T183000
DTSTAMP:20260421T113647
CREATED:20230228T194404Z
LAST-MODIFIED:20230228T194404Z
UID:81498-1777483800-1777487400@www.rollacentre.org
SUMMARY:LES MILLS® BODYPUMP™
DESCRIPTION:This full-body barbell workout will burn calories\, shape and tone your entire body\, increase core strength and improve bone health.
URL:https://www.rollacentre.org/event/les-mills-bodypump-3/2026-04-29/
LOCATION:Group Exercise Studio\, FL
CATEGORIES:Cardio / Strength,Les Mills
END:VEVENT
BEGIN:VEVENT
DTSTART;TZID=America/New_York:20260430T083000
DTEND;TZID=America/New_York:20260430T093000
DTSTAMP:20260421T113647
CREATED:20230103T204545Z
LAST-MODIFIED:20230103T204545Z
UID:81503-1777537800-1777541400@www.rollacentre.org
SUMMARY:YOGA
DESCRIPTION:This class is suitable for anyone wanting all the health benefits of Yoga; improved posture\, balance\, and coordination. This class flows from one posture to another so that everyone can follow easily.
URL:https://www.rollacentre.org/event/yoga-2/2026-04-30/
LOCATION:Yoga Studio
CATEGORIES:Yoga / Pilates
END:VEVENT
BEGIN:VEVENT
DTSTART;TZID=America/New_York:20260430T094500
DTEND;TZID=America/New_York:20260430T104500
DTSTAMP:20260421T113647
CREATED:20230103T204227Z
LAST-MODIFIED:20230103T204227Z
UID:81505-1777542300-1777545900@www.rollacentre.org
SUMMARY:FOREVER YOUNG
DESCRIPTION:Gain functional strength and balance. Increase range of motion plus cardio function from low impact exercises with other active older adults.
URL:https://www.rollacentre.org/event/forever-young/2026-04-30/
LOCATION:Gymnasium\, FL
CATEGORIES:Cardio / Strength
END:VEVENT
BEGIN:VEVENT
DTSTART;TZID=America/New_York:20260430T100000
DTEND;TZID=America/New_York:20260430T110000
DTSTAMP:20260421T113647
CREATED:20230103T211148Z
LAST-MODIFIED:20230103T211148Z
UID:81504-1777543200-1777546800@www.rollacentre.org
SUMMARY:ARTHRITIS
DESCRIPTION:Experience relief today in this lowimpact\, physical activity class that is designed specifically for individuals of all fitness levels with arthritis. In this class we will be doing gentle range-of-motion exercises\, strengthening exercises\, and cardiovascular exercises.
URL:https://www.rollacentre.org/event/arthritis/2026-04-30/
LOCATION:Yoga Studio
CATEGORIES:Yoga / Pilates
END:VEVENT
END:VCALENDAR